BEGIN:VCALENDAR
VERSION:2.0
PRODID:-//Africa RISING - ECPv5.7.0//NONSGML v1.0//EN
CALSCALE:GREGORIAN
METHOD:PUBLISH
X-WR-CALNAME:Africa RISING
X-ORIGINAL-URL:https://africa-rising.net
X-WR-CALDESC:Events for Africa RISING
BEGIN:VTIMEZONE
TZID:Africa/Nairobi
BEGIN:STANDARD
TZOFFSETFROM:+0300
TZOFFSETTO:+0300
TZNAME:EAT
DTSTART:20190101T000000
END:STANDARD
END:VTIMEZONE
BEGIN:VEVENT
DTSTART;VALUE=DATE:20190826
DTEND;VALUE=DATE:20190827
DTSTAMP:20230617T082302
CREATED:20190823T111907Z
LAST-MODIFIED:20190826T232217Z
UID:18236-1566777600-1566863999@africa-rising.net
SUMMARY:Meeting with development partners in Babati District (Tanzania) for scaling livestock technologies
DESCRIPTION:More details available at: http://africa-rising-wiki.net/Events#East_and_Southern_Africa_project_events
URL:https://africa-rising.net/event/meeting-with-development-partners-in-babati-district-tanzania-for-scaling-livestock-technologies/
LOCATION:Babati\, Tanzania
END:VEVENT
END:VCALENDAR