BEGIN:VCALENDAR
VERSION:2.0
PRODID:-//Africa RISING - ECPv5.7.0//NONSGML v1.0//EN
CALSCALE:GREGORIAN
METHOD:PUBLISH
X-WR-CALNAME:Africa RISING
X-ORIGINAL-URL:https://africa-rising.net
X-WR-CALDESC:Events for Africa RISING
BEGIN:VTIMEZONE
TZID:Africa/Nairobi
BEGIN:STANDARD
TZOFFSETFROM:+0300
TZOFFSETTO:+0300
TZNAME:EAT
DTSTART:20190101T000000
END:STANDARD
END:VTIMEZONE
BEGIN:VEVENT
DTSTART;VALUE=DATE:20190830
DTEND;VALUE=DATE:20190831
DTSTAMP:20230617T083238
CREATED:20190814T143622Z
LAST-MODIFIED:20190830T235437Z
UID:18068-1567123200-1567209599@africa-rising.net
SUMMARY:Karatu seed and food fair - Karatu\, Tanzania
DESCRIPTION:WorldVeg partners for Africa RISING will be taking part in this event to meet the following objectives\, activities and target audiences.Objectives \n\nTo gather and reach as many farmers as possible in Karatu District to celebrate the value of farmer seeds and to raise awareness on the threats placed on multiplying seeds and the implications of these threats;\nTo give farmers a venue to voice their opinions and formulate their own policy priorities in the matter;\nTo put farmers and stakeholders who champion the continued existence of farmer seeds to Karatu in the spotlight and recognize their role as food ambassadors;\n\nKey planned activities \n\nFarmer seed showcase\, exchange and sales;\nLuncheon of traditional dishes in Karatu District making use of local foods;\nDebates on Seed Freedom and the setting of an advocacy agenda by farmers on the topic;\n\nTarget audience \n\nSmall-holder farmers;\nFood value chain stakeholders (hotels\, restaurants\, processors);\nGovernment actors in Karatu District Council;\nStudents;\nGeneral public
URL:https://africa-rising.net/event/karatu-seed-and-food-fair-karatu-tanzania/
LOCATION:Karatu\, Tanzania
END:VEVENT
END:VCALENDAR