BEGIN:VCALENDAR
VERSION:2.0
PRODID:-//Africa RISING - ECPv5.7.0//NONSGML v1.0//EN
CALSCALE:GREGORIAN
METHOD:PUBLISH
X-WR-CALNAME:Africa RISING
X-ORIGINAL-URL:https://africa-rising.net
X-WR-CALDESC:Events for Africa RISING
BEGIN:VTIMEZONE
TZID:Africa/Nairobi
BEGIN:STANDARD
TZOFFSETFROM:+0300
TZOFFSETTO:+0300
TZNAME:EAT
DTSTART:20190101T000000
END:STANDARD
END:VTIMEZONE
BEGIN:VEVENT
DTSTART;VALUE=DATE:20190903
DTEND;VALUE=DATE:20190905
DTSTAMP:20230617T083133
CREATED:20190823T152310Z
LAST-MODIFIED:20190904T232307Z
UID:18246-1567468800-1567641599@africa-rising.net
SUMMARY:Training for farmers hosting poultry experiments in Mlali (Kongwa District\, Tanzania)
DESCRIPTION:More details available at: http://africa-rising-wiki.net/Events#East_and_Southern_Africa_project_events
URL:https://africa-rising.net/event/training-for-farmers-hosting-poultry-experiments-in-mlali-kongwa-district-tanzania/
LOCATION:Mlali\, Tanzania
END:VEVENT
END:VCALENDAR