BEGIN:VCALENDAR
VERSION:2.0
PRODID:-//Africa RISING - ECPv5.7.0//NONSGML v1.0//EN
CALSCALE:GREGORIAN
METHOD:PUBLISH
X-WR-CALNAME:Africa RISING
X-ORIGINAL-URL:https://africa-rising.net
X-WR-CALDESC:Events for Africa RISING
BEGIN:VTIMEZONE
TZID:Africa/Nairobi
BEGIN:STANDARD
TZOFFSETFROM:+0300
TZOFFSETTO:+0300
TZNAME:EAT
DTSTART:20190101T000000
END:STANDARD
END:VTIMEZONE
BEGIN:VEVENT
DTSTART;VALUE=DATE:20190910
DTEND;VALUE=DATE:20190912
DTSTAMP:20230617T083141
CREATED:20190809T075622Z
LAST-MODIFIED:20190910T094912Z
UID:17866-1568073600-1568246399@africa-rising.net
SUMMARY:Africa RISING ESA Project Review and Planning Meeting
DESCRIPTION:Agenda for this event and additional information available at: http://africa-rising-wiki.net/Esarevplan2019
URL:https://africa-rising.net/event/africa-rising-esa-project-review-and-planning-meeting/
LOCATION:Dar es Salaam\, Tanzania
END:VEVENT
END:VCALENDAR