BEGIN:VCALENDAR
VERSION:2.0
PRODID:-//Africa RISING - ECPv5.7.0//NONSGML v1.0//EN
CALSCALE:GREGORIAN
METHOD:PUBLISH
X-WR-CALNAME:Africa RISING
X-ORIGINAL-URL:https://africa-rising.net
X-WR-CALDESC:Events for Africa RISING
BEGIN:VTIMEZONE
TZID:Africa/Nairobi
BEGIN:STANDARD
TZOFFSETFROM:+0300
TZOFFSETTO:+0300
TZNAME:EAT
DTSTART:20190101T000000
END:STANDARD
END:VTIMEZONE
BEGIN:VEVENT
DTSTART;VALUE=DATE:20190912
DTEND;VALUE=DATE:20190913
DTSTAMP:20230617T083136
CREATED:20190809T075622Z
LAST-MODIFIED:20190910T094912Z
UID:17867-1568246400-1568332799@africa-rising.net
SUMMARY:Africa RISING ESA Project Steering Committee Meeting
DESCRIPTION:More details about this event are available at: http://africa-rising-wiki.net/Events#2019
URL:https://africa-rising.net/event/africa-rising-esa-project-steering-committee-meeting/
LOCATION:Dar es Salaam\, Tanzania
END:VEVENT
END:VCALENDAR