BEGIN:VCALENDAR
VERSION:2.0
PRODID:-//Africa RISING - ECPv5.7.0//NONSGML v1.0//EN
CALSCALE:GREGORIAN
METHOD:PUBLISH
X-WR-CALNAME:Africa RISING
X-ORIGINAL-URL:https://africa-rising.net
X-WR-CALDESC:Events for Africa RISING
BEGIN:VTIMEZONE
TZID:Africa/Nairobi
BEGIN:STANDARD
TZOFFSETFROM:+0300
TZOFFSETTO:+0300
TZNAME:EAT
DTSTART:20190101T000000
END:STANDARD
END:VTIMEZONE
BEGIN:VEVENT
DTSTART;VALUE=DATE:20190915
DTEND;VALUE=DATE:20190922
DTSTAMP:20230617T083105
CREATED:20190902T061709Z
LAST-MODIFIED:20190910T094912Z
UID:18441-1568505600-1569110399@africa-rising.net
SUMMARY:Internally Commissioned External Review Team visit to project sites in Ghana
DESCRIPTION:More details available at – http://africa-rising-wiki.net/ICER2019
URL:https://africa-rising.net/event/internally-commissioned-external-review-team-visit-to-project-sites-in-ghana/
LOCATION:Different project sites in Northern Ghana
END:VEVENT
END:VCALENDAR