BEGIN:VCALENDAR
VERSION:2.0
PRODID:-//Africa RISING - ECPv5.7.0//NONSGML v1.0//EN
CALSCALE:GREGORIAN
METHOD:PUBLISH
X-WR-CALNAME:Africa RISING
X-ORIGINAL-URL:https://africa-rising.net
X-WR-CALDESC:Events for Africa RISING
BEGIN:VTIMEZONE
TZID:Africa/Nairobi
BEGIN:STANDARD
TZOFFSETFROM:+0300
TZOFFSETTO:+0300
TZNAME:EAT
DTSTART:20190101T000000
END:STANDARD
END:VTIMEZONE
BEGIN:VEVENT
DTSTART;VALUE=DATE:20190929
DTEND;VALUE=DATE:20191008
DTSTAMP:20230617T083026
CREATED:20190827T112320Z
LAST-MODIFIED:20190925T092538Z
UID:18321-1569715200-1570492799@africa-rising.net
SUMMARY:Africa RISING review team visit to Ethiopia
DESCRIPTION:
URL:https://africa-rising.net/event/africa-rising-review-team-visit-to-ethiopia/
END:VEVENT
END:VCALENDAR