BEGIN:VCALENDAR
VERSION:2.0
PRODID:-//Africa RISING - ECPv5.7.0//NONSGML v1.0//EN
CALSCALE:GREGORIAN
METHOD:PUBLISH
X-WR-CALNAME:Africa RISING
X-ORIGINAL-URL:https://africa-rising.net
X-WR-CALDESC:Events for Africa RISING
BEGIN:VTIMEZONE
TZID:UTC
BEGIN:STANDARD
TZOFFSETFROM:+0000
TZOFFSETTO:+0000
TZNAME:UTC
DTSTART:20190101T000000
END:STANDARD
END:VTIMEZONE
BEGIN:VEVENT
DTSTART;VALUE=DATE:20191029
DTEND;VALUE=DATE:20191031
DTSTAMP:20230617T082924
CREATED:20191014T070102Z
LAST-MODIFIED:20191014T070102Z
UID:20078-1572307200-1572479999@africa-rising.net
SUMMARY:Farmer field days - Africa RISING Mali project sites
DESCRIPTION:
URL:https://africa-rising.net/event/farmer-field-days-africa-rising-mali-project-sites/
LOCATION:Bougouni & Koutiala in southern Mali\, Mali
END:VEVENT
END:VCALENDAR