BEGIN:VCALENDAR
VERSION:2.0
PRODID:-//Africa RISING - ECPv5.7.0//NONSGML v1.0//EN
CALSCALE:GREGORIAN
METHOD:PUBLISH
X-WR-CALNAME:Africa RISING
X-ORIGINAL-URL:https://africa-rising.net
X-WR-CALDESC:Events for Africa RISING
BEGIN:VTIMEZONE
TZID:UTC
BEGIN:STANDARD
TZOFFSETFROM:+0000
TZOFFSETTO:+0000
TZNAME:UTC
DTSTART:20200101T000000
END:STANDARD
END:VTIMEZONE
BEGIN:VEVENT
DTSTART;VALUE=DATE:20200201
DTEND;VALUE=DATE:20200209
DTSTAMP:20230617T082813
CREATED:20191127T092907Z
LAST-MODIFIED:20191127T093028Z
UID:21244-1580515200-1581206399@africa-rising.net
SUMMARY:Internally Commissioned External Review Team visit to project sites in Tanzania
DESCRIPTION:
URL:https://africa-rising.net/event/internally-commissioned-external-review-team-visit-to-project-sites-in-tanzania/
LOCATION:Various activity sites in Tanzania\, Tanzania\, United Republic of
END:VEVENT
BEGIN:VEVENT
DTSTART;VALUE=DATE:20200203
DTEND;VALUE=DATE:20200206
DTSTAMP:20230617T082813
CREATED:20200319T141653Z
LAST-MODIFIED:20200319T141653Z
UID:21636-1580688000-1580947199@africa-rising.net
SUMMARY:Africa RISING Ethiopian Highlands project review\, planning and retreat
DESCRIPTION:
URL:https://africa-rising.net/event/africa-rising-ethiopian-highlands-project-review-planning-and-retreat-2/
LOCATION:Bahr Dar Ethiopia
END:VEVENT
END:VCALENDAR