BEGIN:VCALENDAR
VERSION:2.0
PRODID:-//Africa RISING - ECPv5.7.0//NONSGML v1.0//EN
CALSCALE:GREGORIAN
METHOD:PUBLISH
X-WR-CALNAME:Africa RISING
X-ORIGINAL-URL:https://africa-rising.net
X-WR-CALDESC:Events for Africa RISING
BEGIN:VTIMEZONE
TZID:UTC
BEGIN:STANDARD
TZOFFSETFROM:+0000
TZOFFSETTO:+0000
TZNAME:UTC
DTSTART:20200101T000000
END:STANDARD
END:VTIMEZONE
BEGIN:VEVENT
DTSTART;VALUE=DATE:20200728
DTEND;VALUE=DATE:20200729
DTSTAMP:20230617T082632
CREATED:20200709T132955Z
LAST-MODIFIED:20200727T154958Z
UID:21896-1595894400-1595980799@africa-rising.net
SUMMARY:Tanzania project partners review meeting
DESCRIPTION:More details available at: http://africa-rising-wiki.net/Events#East_and_Southern_Africa_project_events
URL:https://africa-rising.net/event/tanzania-project-partners-planning-meeting/
LOCATION:Virtual
END:VEVENT
END:VCALENDAR